BEGIN:VCALENDAR
VERSION:2.0
PRODID:icalendar-ruby
CALSCALE:GREGORIAN
METHOD:PUBLISH
BEGIN:VEVENT
DTSTAMP:20260425T024020Z
UID:26-1518882@gilbertumc.org
DTSTART:20261013T161500Z
DTEND:20261013T181500Z
CLASS:PUBLIC
CREATED:20260424T193925
DESCRIPTION:Join us weekly for bible study. Drop in anytime. Join us as we 
 discuss our study and share our prayer requests. 
LAST-MODIFIED:20260424T193925
LOCATION:
SUMMARY:Tuesday Morning Bible Study 
URL;VALUE=URI:https://www.gilbertmethodist.church/events/tuesday-morning-bi
 ble-study/2026-10-13
ATTACH;FILENAME=mK07.jpg;FMTTYPE=image/jpeg:https://dq5pwpg1q8ru0.cloudfron
 t.net/2025/09/04/22/17/02/b18a94a0-c074-40d3-9ca2-7122d7aa875f/mK07.jpg
END:VEVENT
END:VCALENDAR
